BEGIN:VCALENDAR
VERSION:2.0
PRODID:-//jEvents 2.0 for Joomla//EN
CALSCALE:GREGORIAN
METHOD:PUBLISH
BEGIN:VTIMEZONE
TZID:Europe/Tallinn
BEGIN:STANDARD
DTSTART:20200212T093000
RDATE:20200329T040000
TZOFFSETFROM:+0300
TZOFFSETTO:+0200
TZNAME:Europe/Tallinn EET
END:STANDARD
BEGIN:STANDARD
DTSTART:20201025T030000
RDATE:20210328T040000
TZOFFSETFROM:+0300
TZOFFSETTO:+0200
TZNAME:Europe/Tallinn EET
END:STANDARD
BEGIN:STANDARD
DTSTART:20211031T030000
RDATE:20220327T040000
TZOFFSETFROM:+0300
TZOFFSETTO:+0200
TZNAME:Europe/Tallinn EET
END:STANDARD
BEGIN:STANDARD
DTSTART:20221030T030000
RDATE:20230326T040000
TZOFFSETFROM:+0300
TZOFFSETTO:+0200
TZNAME:Europe/Tallinn EET
END:STANDARD
BEGIN:STANDARD
DTSTART:20231029T030000
RDATE:20240331T040000
TZOFFSETFROM:+0300
TZOFFSETTO:+0200
TZNAME:Europe/Tallinn EET
END:STANDARD
BEGIN:STANDARD
DTSTART:20241027T030000
RDATE:20250330T040000
TZOFFSETFROM:+0300
TZOFFSETTO:+0200
TZNAME:Europe/Tallinn EET
END:STANDARD
BEGIN:STANDARD
DTSTART:20251026T030000
RDATE:20260329T040000
TZOFFSETFROM:+0300
TZOFFSETTO:+0200
TZNAME:Europe/Tallinn EET
END:STANDARD
BEGIN:STANDARD
DTSTART:20261025T030000
RDATE:20270328T040000
TZOFFSETFROM:+0300
TZOFFSETTO:+0200
TZNAME:Europe/Tallinn EET
END:STANDARD
BEGIN:STANDARD
DTSTART:20271031T030000
RDATE:20280326T040000
TZOFFSETFROM:+0300
TZOFFSETTO:+0200
TZNAME:Europe/Tallinn EET
END:STANDARD
BEGIN:STANDARD
DTSTART:20281029T030000
RDATE:20290325T040000
TZOFFSETFROM:+0300
TZOFFSETTO:+0200
TZNAME:Europe/Tallinn EET
END:STANDARD
BEGIN:STANDARD
DTSTART:20291028T030000
RDATE:20300331T040000
TZOFFSETFROM:+0300
TZOFFSETTO:+0200
TZNAME:Europe/Tallinn EET
END:STANDARD
BEGIN:STANDARD
DTSTART:20301027T030000
RDATE:20310330T040000
TZOFFSETFROM:+0300
TZOFFSETTO:+0200
TZNAME:Europe/Tallinn EET
END:STANDARD
BEGIN:STANDARD
DTSTART:20311026T030000
RDATE:20320328T040000
TZOFFSETFROM:+0300
TZOFFSETTO:+0200
TZNAME:Europe/Tallinn EET
END:STANDARD
BEGIN:DAYLIGHT
DTSTART:20200329T040000
RDATE:20201025T030000
TZOFFSETFROM:+0200
TZOFFSETTO:+0300
TZNAME:Europe/Tallinn EEST
END:DAYLIGHT
BEGIN:DAYLIGHT
DTSTART:20210328T040000
RDATE:20211031T030000
TZOFFSETFROM:+0200
TZOFFSETTO:+0300
TZNAME:Europe/Tallinn EEST
END:DAYLIGHT
BEGIN:DAYLIGHT
DTSTART:20220327T040000
RDATE:20221030T030000
TZOFFSETFROM:+0200
TZOFFSETTO:+0300
TZNAME:Europe/Tallinn EEST
END:DAYLIGHT
BEGIN:DAYLIGHT
DTSTART:20230326T040000
RDATE:20231029T030000
TZOFFSETFROM:+0200
TZOFFSETTO:+0300
TZNAME:Europe/Tallinn EEST
END:DAYLIGHT
BEGIN:DAYLIGHT
DTSTART:20240331T040000
RDATE:20241027T030000
TZOFFSETFROM:+0200
TZOFFSETTO:+0300
TZNAME:Europe/Tallinn EEST
END:DAYLIGHT
BEGIN:DAYLIGHT
DTSTART:20250330T040000
RDATE:20251026T030000
TZOFFSETFROM:+0200
TZOFFSETTO:+0300
TZNAME:Europe/Tallinn EEST
END:DAYLIGHT
BEGIN:DAYLIGHT
DTSTART:20260329T040000
RDATE:20261025T030000
TZOFFSETFROM:+0200
TZOFFSETTO:+0300
TZNAME:Europe/Tallinn EEST
END:DAYLIGHT
BEGIN:DAYLIGHT
DTSTART:20270328T040000
RDATE:20271031T030000
TZOFFSETFROM:+0200
TZOFFSETTO:+0300
TZNAME:Europe/Tallinn EEST
END:DAYLIGHT
BEGIN:DAYLIGHT
DTSTART:20280326T040000
RDATE:20281029T030000
TZOFFSETFROM:+0200
TZOFFSETTO:+0300
TZNAME:Europe/Tallinn EEST
END:DAYLIGHT
BEGIN:DAYLIGHT
DTSTART:20290325T040000
RDATE:20291028T030000
TZOFFSETFROM:+0200
TZOFFSETTO:+0300
TZNAME:Europe/Tallinn EEST
END:DAYLIGHT
BEGIN:DAYLIGHT
DTSTART:20300331T040000
RDATE:20301027T030000
TZOFFSETFROM:+0200
TZOFFSETTO:+0300
TZNAME:Europe/Tallinn EEST
END:DAYLIGHT
BEGIN:DAYLIGHT
DTSTART:20310330T040000
RDATE:20311026T030000
TZOFFSETFROM:+0200
TZOFFSETTO:+0300
TZNAME:Europe/Tallinn EEST
END:DAYLIGHT
END:VTIMEZONE
BEGIN:VEVENT
UID:fc7e7fffe1ca33279047fdd2b875b133
CATEGORIES:Vaikimisi
CREATED:20201229T105242
SUMMARY:EHAS ja EPS koostööseminar „Polüfarmakoloogia“ II päev
DESCRIPTION:2021. aastal traditsiooniks saanud EHAS Kevadkonverentsi ei toimum, selle a
 semel korraldame koostöös EPS Noorpsühhiaatrite sektsiooni ja Eesti Psühhia
 atrite Seltsiga virtuaalse talveseminari teemal „Polüfarmakoloogia“.<br /> 
 <br /> Seminar on interaktiivne – lisaks loengutele toimuvad ka juhtumianal
 üüsid ja arutelud.<br /> <br /> Seminar toimub kahel päeval - 11.02 ja 12.0
 2 Zoomi veebikeskkonnas.<br /> <br /> Palun registreeri ennast hiljemalt 31
 .01.2021 <a href="https://docs.google.com/forms/d/e/1FAIpQLSfcym837Wsj1_ggL
 SqbI__aVlHnfgNuDIPKIbsIEY1kynMXfA/viewform">SIIN</a><br /> <br /> Koolituse
  läbimiseks on vaja osaleda veebiloengutel ning sooritada lõputest (testi s
 aab sooritada EHAS siseveebi koolituskeskkonnas, üksikasjad avaldame jooksv
 alt). Osalemine annab 15 täienduspunkti.<br /> <br /> Osalustasu EHAS liikm
 etele on 15 eurot (tasuda otse EPS kontole või märkida registreerumisvormil
  kellele vormistatakse arve, vt lisatud fail).<br /> <br /> SEMINARI KAVA:<
 br /> <br /> 11.02.2021<br /> <br /> 09:30-09:45<br /> <br /> Tervitussõnad
 , sissejuhatus<br /> <br /> 09:45-11:00<br /> <br /> Koostoimete mehhanismi
 d ja punased ohulipukesed<br /> <br /> Krista Meresmaa<br /> kliiniline pro
 viisor<br /> <br /> 11:00-11:15<br /> <br /> Paus<br /> <br /> 11:15-12:45<
 br /> <br /> Polüfarmakoloogia äreval patsiendil<br /> <br /> Liis Haavistu
 <br /> psühhiaater<br /> <br /> 12:45-13:30<br /> <br /> Lõunapaus<br /> <b
 r /> 13:30-15:00<br /> <br /> Geneetilise varieeruvuse mõju ravimite efekti
 ivsusele<br /> <br /> Tiiu Lind<br /> psühhiaater<br /> <br /> 15:00-15:15<
 br /> <br /> Paus<br /> <br /> 15:15-16:45<br /> <br /> Neuroloogilise haig
 usega patsiendi psühhiaatriline ravi<br /> <br /> Katrin Põld<br /> neurolo
 og<br /> <br /> 12.02.2021<br /> <br /> 09:30-09:45<br /> <br /> Tervitussõ
 nad, sissejuhatus<br /> <br /> 09:45-11:00<br /> <br /> Rahustid<br /> <br 
 /> Raine Pilli<br /> psühhiaater<br /> <br /> 11:00-11:15<br /> <br /> Paus
 <br /> <br /> 11:15-12:15<br /> <br /> Somaatilise deliiriumi farmakoloogil
 ine käsitlus<br /> <br /> Katrin Elmet<br /> anestesioloog<br /> <br /> 12:
 15-12:45<br /> <br /> Delirium tremensi farmakoloogiline käsitlus<br /> <br
  /> Margus Lõokene<br /> psühhiaater<br /> <br /> 12:45-13:30<br /> <br /> 
 Lõunapaus<br /> <br /> 13:30-15:00<br /> <br /> Vanemaealiste patsientide r
 avi<br /> <br /> Merit Kudeviita<br /> psühhiaater<br /> <br /> 15:00-15:15
 <br /> <br /> Paus<br /> <br /> 15:15-16:45<br /> <br /> Koostoimete andmeb
 aaside töötuba<br /> <br /> Jana Lass<br /> kliiniline proviisor<br /> <br 
 /> 16:45-17:00<br /> <br /> Kokkuvõte, tänusõnad
DTSTAMP:20260424T135322
DTSTART;TZID=Europe/Tallinn:20210212T093000
DTEND;TZID=Europe/Tallinn:20210212T170000
SEQUENCE:0
TRANSP:OPAQUE
END:VEVENT
END:VCALENDAR