BEGIN:VCALENDAR
VERSION:2.0
PRODID:-//jEvents 2.0 for Joomla//EN
CALSCALE:GREGORIAN
METHOD:PUBLISH
BEGIN:VTIMEZONE
TZID:Europe/Tallinn
BEGIN:STANDARD
DTSTART:20201025T030000
RDATE:20210328T040000
TZOFFSETFROM:+0300
TZOFFSETTO:+0200
TZNAME:Europe/Tallinn EET
END:STANDARD
BEGIN:STANDARD
DTSTART:20211031T030000
RDATE:20220327T040000
TZOFFSETFROM:+0300
TZOFFSETTO:+0200
TZNAME:Europe/Tallinn EET
END:STANDARD
BEGIN:STANDARD
DTSTART:20221030T030000
RDATE:20230326T040000
TZOFFSETFROM:+0300
TZOFFSETTO:+0200
TZNAME:Europe/Tallinn EET
END:STANDARD
BEGIN:STANDARD
DTSTART:20231029T030000
RDATE:20240331T040000
TZOFFSETFROM:+0300
TZOFFSETTO:+0200
TZNAME:Europe/Tallinn EET
END:STANDARD
BEGIN:STANDARD
DTSTART:20241027T030000
RDATE:20250330T040000
TZOFFSETFROM:+0300
TZOFFSETTO:+0200
TZNAME:Europe/Tallinn EET
END:STANDARD
BEGIN:STANDARD
DTSTART:20251026T030000
RDATE:20260329T040000
TZOFFSETFROM:+0300
TZOFFSETTO:+0200
TZNAME:Europe/Tallinn EET
END:STANDARD
BEGIN:STANDARD
DTSTART:20261025T030000
RDATE:20270328T040000
TZOFFSETFROM:+0300
TZOFFSETTO:+0200
TZNAME:Europe/Tallinn EET
END:STANDARD
BEGIN:STANDARD
DTSTART:20271031T030000
RDATE:20280326T040000
TZOFFSETFROM:+0300
TZOFFSETTO:+0200
TZNAME:Europe/Tallinn EET
END:STANDARD
BEGIN:STANDARD
DTSTART:20281029T030000
RDATE:20290325T040000
TZOFFSETFROM:+0300
TZOFFSETTO:+0200
TZNAME:Europe/Tallinn EET
END:STANDARD
BEGIN:STANDARD
DTSTART:20291028T030000
RDATE:20300331T040000
TZOFFSETFROM:+0300
TZOFFSETTO:+0200
TZNAME:Europe/Tallinn EET
END:STANDARD
BEGIN:STANDARD
DTSTART:20301027T030000
RDATE:20310330T040000
TZOFFSETFROM:+0300
TZOFFSETTO:+0200
TZNAME:Europe/Tallinn EET
END:STANDARD
BEGIN:STANDARD
DTSTART:20311026T030000
RDATE:20320328T040000
TZOFFSETFROM:+0300
TZOFFSETTO:+0200
TZNAME:Europe/Tallinn EET
END:STANDARD
BEGIN:DAYLIGHT
DTSTART:20201019T101500
RDATE:20201025T030000
TZOFFSETFROM:+0200
TZOFFSETTO:+0300
TZNAME:Europe/Tallinn EEST
END:DAYLIGHT
BEGIN:DAYLIGHT
DTSTART:20210328T040000
RDATE:20211031T030000
TZOFFSETFROM:+0200
TZOFFSETTO:+0300
TZNAME:Europe/Tallinn EEST
END:DAYLIGHT
BEGIN:DAYLIGHT
DTSTART:20220327T040000
RDATE:20221030T030000
TZOFFSETFROM:+0200
TZOFFSETTO:+0300
TZNAME:Europe/Tallinn EEST
END:DAYLIGHT
BEGIN:DAYLIGHT
DTSTART:20230326T040000
RDATE:20231029T030000
TZOFFSETFROM:+0200
TZOFFSETTO:+0300
TZNAME:Europe/Tallinn EEST
END:DAYLIGHT
BEGIN:DAYLIGHT
DTSTART:20240331T040000
RDATE:20241027T030000
TZOFFSETFROM:+0200
TZOFFSETTO:+0300
TZNAME:Europe/Tallinn EEST
END:DAYLIGHT
BEGIN:DAYLIGHT
DTSTART:20250330T040000
RDATE:20251026T030000
TZOFFSETFROM:+0200
TZOFFSETTO:+0300
TZNAME:Europe/Tallinn EEST
END:DAYLIGHT
BEGIN:DAYLIGHT
DTSTART:20260329T040000
RDATE:20261025T030000
TZOFFSETFROM:+0200
TZOFFSETTO:+0300
TZNAME:Europe/Tallinn EEST
END:DAYLIGHT
BEGIN:DAYLIGHT
DTSTART:20270328T040000
RDATE:20271031T030000
TZOFFSETFROM:+0200
TZOFFSETTO:+0300
TZNAME:Europe/Tallinn EEST
END:DAYLIGHT
BEGIN:DAYLIGHT
DTSTART:20280326T040000
RDATE:20281029T030000
TZOFFSETFROM:+0200
TZOFFSETTO:+0300
TZNAME:Europe/Tallinn EEST
END:DAYLIGHT
BEGIN:DAYLIGHT
DTSTART:20290325T040000
RDATE:20291028T030000
TZOFFSETFROM:+0200
TZOFFSETTO:+0300
TZNAME:Europe/Tallinn EEST
END:DAYLIGHT
BEGIN:DAYLIGHT
DTSTART:20300331T040000
RDATE:20301027T030000
TZOFFSETFROM:+0200
TZOFFSETTO:+0300
TZNAME:Europe/Tallinn EEST
END:DAYLIGHT
BEGIN:DAYLIGHT
DTSTART:20310330T040000
RDATE:20311026T030000
TZOFFSETFROM:+0200
TZOFFSETTO:+0300
TZNAME:Europe/Tallinn EEST
END:DAYLIGHT
END:VTIMEZONE
BEGIN:VEVENT
UID:4582ae4058abb10760e511fd9eaa349c
CATEGORIES:Vaikimisi
CREATED:20210831T092725
SUMMARY:EHAS teabepäev
LOCATION:Tartu
DESCRIPTION:EHAS teabepäev toimub 20.10.2021 Tartus, raudteejaama kohvikus Wedur (Vaksa
 li 6).\nNB! Tallinnast tulijate osas on arvestatud rongide saabumise ja väl
 jumise aegadega.\n \nPalun registreeri ennast hiljemalt 15.10.2021 \nNB! Os
 aleda saavad COVID-19 vastu täielikult immuniseeritud/haiguse läbipõdenud, 
 kontrollime vaktsineerimispassi. Seminaril kanname maski.\nEHAS liikmetele 
 on osalemine tasuta, seltsi mitte kuuluvatele apteekritele 30 eurot.\nKooli
 tuse maht 5 akadeemilist tundi,  osalenutele väljastatakse koolitustõend.\n
  \nSeminari kava\n10:15 - 10:45 kogunemine ja kohv\n10:45 - 11:45 Pille Sää
 lik “Rakkudel põhinevad ravimpreparaadid”\n11:45 - 12:30 Prof Ruth Kalda “M
 illeks meile üldse kollegiaalsus?”\n12:30 - 13:00 Prof Vallo Tillmann “Harv
 ikhaigused, harvikhaiguste ravimite komitee töö Euroopa Ravimiametis”\n13.0
 0 - 13:45 Lõuna\n13:45 - 14:30 Dr Kristi Huik “HIVi ravi värskemad seisukoh
 ad”\n14:30 - 14:45 Jana Lass “Külastus Hannoveri haigla transplantatsioonik
 eskusesse”\n14:45 - 15:15 Kersti Teder EHAS strateegiapäeva kokkuvõte\n15:1
 5 – 15:30 EHAS uudised\n\nKohtumiseni teabepäeval!\n
X-ALT-DESC;FMTTYPE=text/html:<p>EHAS teabepäev toimub 20.10.2021 Tartus, raudteejaama kohvikus Wedur (Va
 ksali 6).</p><p>NB! Tallinnast tulijate osas on arvestatud rongide saabumis
 e ja väljumise aegadega.</p><p>&nbsp;</p><p>Palun registreeri ennast hiljem
 alt 15.10.2021&nbsp;</p><p>NB! Osaleda saavad COVID-19 vastu täielikult imm
 uniseeritud/haiguse läbipõdenud, kontrollime vaktsineerimispassi. Seminaril
  kanname maski.</p><p>EHAS liikmetele on osalemine tasuta, seltsi mitte kuu
 luvatele apteekritele 30 eurot.</p><p>Koolituse maht 5 akadeemilist tundi,&
 nbsp; osalenutele väljastatakse koolitustõend.</p><p>&nbsp;</p><p>Seminari 
 kava</p><p>10:15 - 10:45 kogunemine ja kohv</p><p>10:45 - 11:45 Pille Sääli
 k “Rakkudel põhinevad ravimpreparaadid”</p><p>11:45 - 12:30 Prof Ruth Kalda
  “Milleks meile üldse kollegiaalsus?”</p><p>12:30 - 13:00 Prof Vallo Tillma
 nn “Harvikhaigused, harvikhaiguste ravimite komitee töö Euroopa Ravimiameti
 s”</p><p>13.00 - 13:45 Lõuna</p><p>13:45 - 14:30 Dr Kristi Huik “HIVi ravi 
 värskemad seisukohad”</p><p>14:30 - 14:45 Jana Lass “Külastus Hannoveri hai
 gla transplantatsioonikeskusesse”</p><p>14:45 - 15:15 Kersti Teder EHAS str
 ateegiapäeva kokkuvõte</p><p>15:15 – 15:30 EHAS uudised</p><p></p><p>Kohtum
 iseni teabepäeval!</p>
CONTACT:See e-posti aadress on spämmirobotite eest kaitstud. Selle nägemiseks peab su veebilehitsejas olema JavaSkript sisse lülitatud.
DTSTAMP:20260424T135430
DTSTART;TZID=Europe/Tallinn:20211020T101500
DTEND;TZID=Europe/Tallinn:20211020T153000
SEQUENCE:0
TRANSP:OPAQUE
END:VEVENT
END:VCALENDAR